BEGIN:VCALENDAR
VERSION:2.0
PRODID:-//Granby Multi-Sports - ECPv6.15.20//NONSGML v1.0//EN
CALSCALE:GREGORIAN
METHOD:PUBLISH
X-WR-CALNAME:Granby Multi-Sports
X-ORIGINAL-URL:https://granbymultisports.ca
X-WR-CALDESC:Évènements pour Granby Multi-Sports
REFRESH-INTERVAL;VALUE=DURATION:PT1H
X-Robots-Tag:noindex
X-PUBLISHED-TTL:PT1H
BEGIN:VTIMEZONE
TZID:America/Toronto
BEGIN:DAYLIGHT
TZOFFSETFROM:-0500
TZOFFSETTO:-0400
TZNAME:EDT
DTSTART:20230312T070000
END:DAYLIGHT
BEGIN:STANDARD
TZOFFSETFROM:-0400
TZOFFSETTO:-0500
TZNAME:EST
DTSTART:20231105T060000
END:STANDARD
BEGIN:DAYLIGHT
TZOFFSETFROM:-0500
TZOFFSETTO:-0400
TZNAME:EDT
DTSTART:20240310T070000
END:DAYLIGHT
BEGIN:STANDARD
TZOFFSETFROM:-0400
TZOFFSETTO:-0500
TZNAME:EST
DTSTART:20241103T060000
END:STANDARD
BEGIN:DAYLIGHT
TZOFFSETFROM:-0500
TZOFFSETTO:-0400
TZNAME:EDT
DTSTART:20250309T070000
END:DAYLIGHT
BEGIN:STANDARD
TZOFFSETFROM:-0400
TZOFFSETTO:-0500
TZNAME:EST
DTSTART:20251102T060000
END:STANDARD
END:VTIMEZONE
BEGIN:VEVENT
DTSTART;TZID=America/Toronto:20240612T174500
DTEND;TZID=America/Toronto:20240612T194500
DTSTAMP:20260425T090200
CREATED:20240424T181853Z
LAST-MODIFIED:20240522T195124Z
UID:5791-1718214300-1718221500@granbymultisports.ca
SUMMARY:Soirée pumptrack avec le Centre National de Cyclisme de Bromont
DESCRIPTION:Ne rate pas LA soirée PUMPTRACK avec le Centre National de Cyclisme de Bromont (CNCB)!\nLes jeunes participants de 2 à 8 ans recevront des conseils de deux entraîneurs du CNCB pour mieux apprivoiser la nouvelle piste du terrain de l’école secondaire Joseph-Hermas-Leclerc. \nChaque participant doit avoir son propre vélo et casque. \nUn casque intégral peut être prêté sur place. \n \n  \nPour débutants seulement\n\n17h45  à 18h45 – vélo trotteur pour les 2 à 4 ans (groupe de 8 personnes)\n18h45 à 19h45 – pumptrack pour les 5 à 8 ans (groupe de 12 personnes)\n\n  \nInscriptions obligatoires\nLe tarif est de 15 $. \nInscription en ligne dès le 25 avril 15h. \n 
URL:https://granbymultisports.ca/evenement/soiree-pumptrack-avec-le-centre-national-de-cyclisme-de-bromont/
LOCATION:Roulodrome du Boisé\, 1111 Rue Simonds S\, Granby\, Québec\, J2G 9H7\, Canada
CATEGORIES:Pour enfants,Pour la famille
ATTACH;FMTTYPE=image/jpeg:https://granbymultisports.ca/wp-content/uploads/2024/04/IMG_1208-scaled-e1713983163941.jpg
ORGANIZER;CN="Granby Multi-Sports":MAILTO:info@gmsgranby.org
END:VEVENT
END:VCALENDAR