BEGIN:VCALENDAR
VERSION:2.0
PRODID:-//Granby Multi-Sports - ECPv6.15.20//NONSGML v1.0//EN
CALSCALE:GREGORIAN
METHOD:PUBLISH
X-ORIGINAL-URL:https://granbymultisports.ca
X-WR-CALDESC:Évènements pour Granby Multi-Sports
REFRESH-INTERVAL;VALUE=DURATION:PT1H
X-Robots-Tag:noindex
X-PUBLISHED-TTL:PT1H
BEGIN:VTIMEZONE
TZID:America/Toronto
BEGIN:DAYLIGHT
TZOFFSETFROM:-0500
TZOFFSETTO:-0400
TZNAME:EDT
DTSTART:20230312T070000
END:DAYLIGHT
BEGIN:STANDARD
TZOFFSETFROM:-0400
TZOFFSETTO:-0500
TZNAME:EST
DTSTART:20231105T060000
END:STANDARD
BEGIN:DAYLIGHT
TZOFFSETFROM:-0500
TZOFFSETTO:-0400
TZNAME:EDT
DTSTART:20240310T070000
END:DAYLIGHT
BEGIN:STANDARD
TZOFFSETFROM:-0400
TZOFFSETTO:-0500
TZNAME:EST
DTSTART:20241103T060000
END:STANDARD
BEGIN:DAYLIGHT
TZOFFSETFROM:-0500
TZOFFSETTO:-0400
TZNAME:EDT
DTSTART:20250309T070000
END:DAYLIGHT
BEGIN:STANDARD
TZOFFSETFROM:-0400
TZOFFSETTO:-0500
TZNAME:EST
DTSTART:20251102T060000
END:STANDARD
END:VTIMEZONE
BEGIN:VEVENT
DTSTART;TZID=America/Toronto:20240214T180000
DTEND;TZID=America/Toronto:20240214T210000
DTSTAMP:20260425T153457
CREATED:20231121T194544Z
LAST-MODIFIED:20240207T164004Z
UID:4970-1707933600-1707944400@granbymultisports.ca
SUMMARY:Patin St-Valentin
DESCRIPTION:Profitez de la Saint-Valentin pour patiner en amoureux\, en famille ou entre amis!\n  \nL’activité est gratuite\, sans inscriptions\, sans carte-loisir et ouverte aux non-résidents de Granby. \nRassemblez-vous autour d’une ambiance musicale festive! \n  \nLe lieu de l’événement sera déterminé en fonction des conditions météorologiques.\nNotre souhait est de tenir l’événement à la nouvelle patinoire de la Place du marché. Si la glace est en mauvais état\, le Patin St-Valentin aura lieu au parc Daniel-Johnson. \n⛸ Plan A : nouvelle patinoire de la Place du marché\n⛸ Plan B : sentiers glacés du parc Daniel-Johnson\n⛸ Plan C : patin à roulettes au pavillon Roger-Bédard \n  \nSuivez-nous sur Facebook ou Instagram pour connaître le lieu!
URL:https://granbymultisports.ca/evenement/patin-st-valentin/
LOCATION:Québec
CATEGORIES:Activité gratuite,Pour adolescent,Pour adulte,Pour aînés,Pour enfants,Pour la famille
ATTACH;FMTTYPE=image/jpeg:https://granbymultisports.ca/wp-content/uploads/2023/11/couverture-FB-patin-st-Valentin.jpg
ORGANIZER;CN="Granby Multi-Sports":MAILTO:info@gmsgranby.org
END:VEVENT
END:VCALENDAR