BEGIN:VCALENDAR
VERSION:2.0
PRODID:-//Granby Multi-Sports - ECPv6.15.20//NONSGML v1.0//EN
CALSCALE:GREGORIAN
METHOD:PUBLISH
X-ORIGINAL-URL:https://granbymultisports.ca
X-WR-CALDESC:Évènements pour Granby Multi-Sports
REFRESH-INTERVAL;VALUE=DURATION:PT1H
X-Robots-Tag:noindex
X-PUBLISHED-TTL:PT1H
BEGIN:VTIMEZONE
TZID:America/Toronto
BEGIN:DAYLIGHT
TZOFFSETFROM:-0500
TZOFFSETTO:-0400
TZNAME:EDT
DTSTART:20240310T070000
END:DAYLIGHT
BEGIN:STANDARD
TZOFFSETFROM:-0400
TZOFFSETTO:-0500
TZNAME:EST
DTSTART:20241103T060000
END:STANDARD
BEGIN:DAYLIGHT
TZOFFSETFROM:-0500
TZOFFSETTO:-0400
TZNAME:EDT
DTSTART:20250309T070000
END:DAYLIGHT
BEGIN:STANDARD
TZOFFSETFROM:-0400
TZOFFSETTO:-0500
TZNAME:EST
DTSTART:20251102T060000
END:STANDARD
BEGIN:DAYLIGHT
TZOFFSETFROM:-0500
TZOFFSETTO:-0400
TZNAME:EDT
DTSTART:20260308T070000
END:DAYLIGHT
BEGIN:STANDARD
TZOFFSETFROM:-0400
TZOFFSETTO:-0500
TZNAME:EST
DTSTART:20261101T060000
END:STANDARD
END:VTIMEZONE
BEGIN:VEVENT
DTSTART;TZID=America/Toronto:20250823T130000
DTEND;TZID=America/Toronto:20250823T160000
DTSTAMP:20260424T091355
CREATED:20250609T185202Z
LAST-MODIFIED:20250820T175726Z
UID:8039-1755954000-1755964800@granbymultisports.ca
SUMMARY:Découvre notre programmation au Festival du sport SPÉCIAL RENTRÉE
DESCRIPTION:Le samedi 23 août\, de 13 h à 16 h\, venez bouger au parc Daniel-Johnson!\n  \nL’équipe de Granby Multi-Sports invite la population granbyenne au Festival du sport spécial Rentrée\, histoire de bouger en famille et de tester gratuitement plusieurs activités sportives offertes dans sa programmation automnale! L’événement aura lieu le samedi 23 août\, de 13 h à 16 h\, au parc Daniel-Johnson\, autour du pavillon Roger-Bédard.\n  \n \n  \nPlus de 30 activités et jeux sportifs\nAu programme\, une trentaine d’activités sportives et de jeux ludiques faisant partie de notre programmation régulière : le kick-boxing\, l’escrime\, le multi-sports\, l’athlétisme\, l’entraînement fonctionnel\, le hockey féminin\, le ultimate frisbee\, la pétanque et bien plus encore. \nOn pourra aussi pratiquer des activités libres comme le badminton et le spikeball\, ou encore se balader en kayak sur le lac Boivin. Les festivaliers qui apprécient une activité en particulier pourront s’inscrire à la session d’automne dès le jeudi 4 septembre! \n  \nMachine à mousse et compagnie\n \n\nL’ambiance toujours festive\, avec musique\, animations\, mascottes\, maquillage pour enfants et jeux gonflables\, sera agrémentée d’une nouveauté : un canon à mousse installé près des jeux d’eau du parc! Les enfants de 0 à 99 ans auront le plaisir de s’immerger dans un véritable bain moussant à ciel ouvert… de quoi faire mousser l’événement! \nDe plus\, nous distribuerons sur place des petits cadeaux de l’entreprise Shop Santé! \n\n \nLe kiosque Style ton casque de retour\n \nCelles et ceux voulant se démarquer sur la piste cyclable\, sont invités à amener leur casque de vélo ou leur planche à roulettes! Deux artistes graffitistes auront leur équipement sur place pour les décorer et les rendre uniques à 100 %.\n  \n𝐋’𝐈𝐧𝐝𝐢𝐠𝐨 𝐞𝐧 𝐜𝐫𝐨𝐬𝐬-𝐛𝐢𝐚𝐭𝐡𝐥𝐨𝐧Dès 16 h\, rendez-vous au kiosque Rossignol (Cèdres Golf et Plein Air) pour encourager les joueuses de hockey de L’Indigo de Granby qui s’affronteront dans une compétition de cross-biathlon! \n  \n  \n\nS’inscrire pour participer et gagner!\n\nL’accès au Festival du sport est gratuit et ouvert à tous\, mais nous demandons au public de s’inscrire à l’avance afin de mieux planifier l’événement. Non seulement les personnes inscrites recevront par courriel le plan détaillé du site\, mais elles courront aussi la chance de remporter une paire de billets pour un match des Alouettes de Montréal! \nOn peut s’inscrire dès maintenant à cette adresse : https://forms.gle/HnvumGCYZHY2A117A \n\n \nUne communauté engagée pour le sport à Granby\n \n\nL’équipe de Granby Multi-Sports remercie le présentateur officiel du Festival\, ATP Lab\, qui nous aide à faire bouger Granby. De même\, nous soulignons le soutien financier de notre partenaire Or\, M. François Bonnardel\, député de Granby. \n\n\nNous remercions aussi la Ville de Granby\, pour son appui dans tous nos grands et petits projets! \n\n\nFinalement\, nous remercions nos autres précieux partenaires : Andréanne Larouche\, députée de Shefford; Desjardins\, caisse de Granby – Haute-Yamaska; Distributions Nouvelle-France; Dubé Loiselle; Radio M105; La Voix de l’Est.
URL:https://granbymultisports.ca/evenement/profite-du-festival-du-sport-special-rentree-pour-decouvrir-notre-programmation/
LOCATION:Parc Daniel-Johnson\, 230\, rue Drummond\, Granby\, Québec\, J2G 2S3\, Canada
CATEGORIES:Activité gratuite,Pour adolescent,Pour adulte,Pour aînés,Pour enfants,Pour la famille
ATTACH;FMTTYPE=image/jpeg:https://granbymultisports.ca/wp-content/uploads/2025/06/FDS20241-scaled.jpg
ORGANIZER;CN="Granby Multi-Sports":MAILTO:info@gmsgranby.org
END:VEVENT
END:VCALENDAR