BEGIN:VCALENDAR
VERSION:2.0
PRODID:-//Granby Multi-Sports - ECPv6.15.20//NONSGML v1.0//EN
CALSCALE:GREGORIAN
METHOD:PUBLISH
X-WR-CALNAME:Granby Multi-Sports
X-ORIGINAL-URL:https://granbymultisports.ca
X-WR-CALDESC:Évènements pour Granby Multi-Sports
REFRESH-INTERVAL;VALUE=DURATION:PT1H
X-Robots-Tag:noindex
X-PUBLISHED-TTL:PT1H
BEGIN:VTIMEZONE
TZID:America/Toronto
BEGIN:DAYLIGHT
TZOFFSETFROM:-0500
TZOFFSETTO:-0400
TZNAME:EDT
DTSTART:20250309T070000
END:DAYLIGHT
BEGIN:STANDARD
TZOFFSETFROM:-0400
TZOFFSETTO:-0500
TZNAME:EST
DTSTART:20251102T060000
END:STANDARD
BEGIN:DAYLIGHT
TZOFFSETFROM:-0500
TZOFFSETTO:-0400
TZNAME:EDT
DTSTART:20260308T070000
END:DAYLIGHT
BEGIN:STANDARD
TZOFFSETFROM:-0400
TZOFFSETTO:-0500
TZNAME:EST
DTSTART:20261101T060000
END:STANDARD
BEGIN:DAYLIGHT
TZOFFSETFROM:-0500
TZOFFSETTO:-0400
TZNAME:EDT
DTSTART:20270314T070000
END:DAYLIGHT
BEGIN:STANDARD
TZOFFSETFROM:-0400
TZOFFSETTO:-0500
TZNAME:EST
DTSTART:20271107T060000
END:STANDARD
END:VTIMEZONE
BEGIN:VEVENT
DTSTART;TZID=America/Toronto:20260321T130000
DTEND;TZID=America/Toronto:20260321T160000
DTSTAMP:20260419T114054
CREATED:20251111T165648Z
LAST-MODIFIED:20260316T133951Z
UID:8703-1774098000-1774108800@granbymultisports.ca
SUMMARY:Profite des animations au snowpark du parc Terry-Fox
DESCRIPTION:Les amateurs de glisse sont attendus au snowpark du parc Terry-Fox pour vivre des moments remplis d’adrénaline et de plaisir.\n\nLors des dimanches-animations et samedis-jams\, des pros de la planche à neige et du ski seront sur place pour partager leurs conseils\, offrir des démonstrations et inspirer les participants à repousser leurs limites… tout en s’amusant! \n\n\nLes installations sont éclairées tous les jours jusqu’à 21 h\, permettant de profiter du parc même en soirée. Il est aussi possible de louer sur place des planches à neige\, snowskates\, tubes à glisser et raquettes au coût abordable de 5 $ de l’heure. \n\nBien que ces activités soient ouvertes à tous\, elles sont spécialement conçues pour les jeunes de 14 à 29 ans. \n\nLa tenue des activités et l’ouverture des pavillons demeurent toutefois tributaires des conditions météorologiques. \n\n  \n \n  \n\n\n\nAnimations\nProfite de la présence d’un planchiste ou d’un skieur expérimenté pour recevoir des conseils adaptés à TON niveau.     \n\n\n\nJams\nLes ambassadeurs Salomon\, Empire\, NBP et autres\, animent le parc de neige et organisent des 𝙘𝙤𝙢𝙥é𝙩𝙞𝙩𝙞𝙤𝙣𝙨 𝙖𝙢𝙞𝙘𝙖𝙡𝙚𝙨 𝙙𝙚 𝙥𝙡𝙖𝙣𝙘𝙝𝙚 𝙚𝙩 𝙙𝙚 𝙨𝙠𝙞. Prix de présence à gagner! Les débutants sont les bienvenus.     \n\n\n\nJournée snowskate\nLes ambassadeurs de skateducation animent\, initient et font des démonstrations de snowskate sur les modules du parc à neige. \n  \n\n \nHoraire 2026\nAnimations \n\ndimanche 25 janvier\ndimanche 1er février\ndimanche 8 février\ndimanche 15 février\ndimanche 22 février\ndimanche 1er mars\nlundi 2 mars\nvendredi 6 mars\ndimanche 8 mars\ndimanche 15 mars\n\nJams (13h à 16h)\n\nsamedi 31 janvier\nsamedi 21 février\nsamedi 21 mars\n\nJournée snowskate (11h à 16h)\n\nsamedi 28 février\n\n\n\n  \nSuivez-nous sur Facebook et Instagram pour ne rien manquer!
URL:https://granbymultisports.ca/evenement/profite-des-animations-au-snowpark-du-parc-terry-fox/
LOCATION:Parc Terry-Fox\, 97\, boulevard leclerc-est\, Granby\, Québec\, Canada
CATEGORIES:Activité gratuite,Pour adolescent,Pour adulte,Pour la famille
ATTACH;FMTTYPE=image/jpeg:https://granbymultisports.ca/wp-content/uploads/2021/08/3G4A2514.jpg
ORGANIZER;CN="Granby Multi-Sports":MAILTO:info@gmsgranby.org
END:VEVENT
END:VCALENDAR